Workbook

Sheet 입력용
A1: 배송번호 | B1: 배송순번 | C1: 주문번호 | D1: 상품번호 | E1: 업체상품번호 | F1: 상품명 | G1: 단품명 | H1: 지시수량 | I1: 취소수량 | J1: 출하수량 | K1: 각인정보 | L1: 사은품 | M1: 주문자명 | N1: 주문자연락처 | O1: 수취인명 | P1: 수취인전화번호 | Q1: 수취인휴대폰번호 | R1: 우편번호 | S1: 수취인주소 | T1: 배송시유의사항 | U1: 공급가격 | V1: 판매가격 | W1: 마진율 | X1: 배송비 | Y1: 추가배송비 | Z1: 지연사유 | AA1: 지연완료예정일자 | AB1: 배송유형 | AC1: 상품준비중일시 | AD1: 업체명 | AE1: 브랜드 | AF1: 모델명
A2: 22083097082 | B2: 101 | C2: 202208300558659 | D2: G22040396128 | F2: 오늘 오후 애뽈 레더커버 양장사철노트 다이어리 | G2: 줄노트 | H2: 1 | I2: 0 | J2: 1 | M2: 하진희 | N2: 050421871129 | O2: 하진희 | P2: 050421871129 | Q2: 050421871129 | R2: 31909 | S2: 충남 서산시 대산읍 정자동2로 16 101동 1304호 (대산리 1550) | U2: 15687 | V2: 18900 | W2: 17 | X2: 3000 | AB2: 정상출하 | AC2: 2022-08-30 09:53:22.0 | AD2: 주식회사 컨티뉴 | AE2: 컨티뉴

Sheet 복사용
A1: 상품주문번호 | B1: 주문번호 | C1: 배송방법 | D1: 택배사 | E1: 송장번호 | F1: 발송일 | G1: 구매자명 | H1: 수취인명 | I1: 주문상태 | J1: 결제일 | K1: 상품번호 | L1: 상품명 | M1: 옵션정보 | N1: 수량 | O1: 옵션가격 | P1: 상품가격 | Q1: 상품별 할인액 | R1: 판매자 부담 할인액 | S1: 상품별 총 주문금액 | T1: 발주확인일 | U1: 발송기한 | V1: 발송처리일 | W1: 송장출력일 | X1: 배송비 형태 | Y1: 배송비 묶음번호 | Z1: 배송비 유형 | AA1: 배송비 합계 | AB1: 제주/도서 추가배송비 | AC1: 배송비 할인액 | AD1: 판매자 상품코드 | AE1: 판매자 내부코드1 | AF1: 판매자 내부코드2 | AG1: 수취인연락처1 | AH1: 수취인연락처2 | AI1: 배송지 | AJ1: 구매자연락처 | AK1: 우편번호 | AL1: 배송메세지 | AM1: 출고지 | AN1: 결제수단 | AO1: 수수료 과금구분 | AP1: 수수료결제방식 | AQ1: 네이버페이 주문관리 수수료 | AR1: 매출연동 수수료 | AS1: 매출연동 수수료 구분 | AT1: 정산예정금액 | AU1: 개인통관고유부호 | AV1: 주문일시 | AW1: 마지막 유입경로
A2: =입력용!C2 -> 202208300558659 | B2: =G:G -> 하진희 | G2: =입력용!M2 -> 하진희 | H2: =입력용!O2 -> 하진희 | J2: =입력용!C2 -> 202208300558659 | L2: =입력용!F2 -> 오늘 오후 애뽈 레더커버 양장사철노트 다이어리 | M2: =입력용!G2 -> 줄노트 | N2: =입력용!H2 -> 1 | AG2: =입력용!P2 -> 050421871129 | AH2: =입력용!Q2 -> 050421871129 | AI2: =입력용!S2 -> 충남 서산시 대산읍 정자동2로 16 101동 1304호 (대산리 1550) | AJ2: =입력용!N2 -> 050421871129 | AK2: =입력용!R2 -> 31909
A3: =입력용!C3 -> 0 | B3: =G:G -> 0 | G3: =입력용!M3 -> 0 | H3: =입력용!O3 -> 0 | J3: =입력용!C3 -> 0 | L3: =입력용!F3 -> 0 | M3: =입력용!G3 -> 0 | N3: =입력용!H3 -> 0 | AG3: =입력용!P3 -> 0 | AH3: =입력용!Q3 -> 0 | AI3: =입력용!S3 -> 0 | AJ3: =입력용!N3 -> 0 | AK3: =입력용!R3 -> 0
A4: =입력용!C4 -> 0 | B4: =G:G -> 0 | G4: =입력용!M4 -> 0 | H4: =입력용!O4 -> 0 | J4: =입력용!C4 -> 0 | L4: =입력용!F4 -> 0 | M4: =입력용!G4 -> 0 | N4: =입력용!H4 -> 0 | AG4: =입력용!P4 -> 0 | AH4: =입력용!Q4 -> 0 | AI4: =입력용!S4 -> 0 | AJ4: =입력용!N4 -> 0 | AK4: =입력용!R4 -> 0
A5: =입력용!C5 -> 0 | B5: =G:G -> 0 | G5: =입력용!M5 -> 0 | H5: =입력용!O5 -> 0 | J5: =입력용!C5 -> 0 | L5: =입력용!F5 -> 0 | M5: =입력용!G5 -> 0 | N5: =입력용!H5 -> 0 | AG5: =입력용!P5 -> 0 | AH5: =입력용!Q5 -> 0 | AI5: =입력용!S5 -> 0 | AJ5: =입력용!N5 -> 0 | AK5: =입력용!R5 -> 0
A6: =입력용!C6 -> 0 | B6: =G:G -> 0 | G6: =입력용!M6 -> 0 | H6: =입력용!O6 -> 0 | J6: =입력용!C6 -> 0 | L6: =입력용!F6 -> 0 | M6: =입력용!G6 -> 0 | N6: =입력용!H6 -> 0 | AG6: =입력용!P6 -> 0 | AH6: =입력용!Q6 -> 0 | AI6: =입력용!S6 -> 0 | AJ6: =입력용!N6 -> 0 | AK6: =입력용!R6 -> 0
A7: =입력용!C7 -> 0 | B7: =G:G -> 0 | G7: =입력용!M7 -> 0 | H7: =입력용!O7 -> 0 | J7: =입력용!C7 -> 0 | L7: =입력용!F7 -> 0 | M7: =입력용!G7 -> 0 | N7: =입력용!H7 -> 0 | AG7: =입력용!P7 -> 0 | AH7: =입력용!Q7 -> 0 | AI7: =입력용!S7 -> 0 | AJ7: =입력용!N7 -> 0 | AK7: =입력용!R7 -> 0
A8: =입력용!C8 -> 0 | B8: =G:G -> 0 | G8: =입력용!M8 -> 0 | H8: =입력용!O8 -> 0 | J8: =입력용!C8 -> 0 | L8: =입력용!F8 -> 0 | M8: =입력용!G8 -> 0 | N8: =입력용!H8 -> 0 | AG8: =입력용!P8 -> 0 | AH8: =입력용!Q8 -> 0 | AI8: =입력용!S8 -> 0 | AJ8: =입력용!N8 -> 0 | AK8: =입력용!R8 -> 0
A9: =입력용!C9 -> 0 | B9: =G:G -> 0 | G9: =입력용!M9 -> 0 | H9: =입력용!O9 -> 0 | J9: =입력용!C9 -> 0 | L9: =입력용!F9 -> 0 | M9: =입력용!G9 -> 0 | N9: =입력용!H9 -> 0 | AG9: =입력용!P9 -> 0 | AH9: =입력용!Q9 -> 0 | AI9: =입력용!S9 -> 0 | AJ9: =입력용!N9 -> 0 | AK9: =입력용!R9 -> 0
A10: =입력용!C10 -> 0 | B10: =G:G -> 0 | G10: =입력용!M10 -> 0 | H10: =입력용!O10 -> 0 | J10: =입력용!C10 -> 0 | L10: =입력용!F10 -> 0 | M10: =입력용!G10 -> 0 | N10: =입력용!H10 -> 0 | AG10: =입력용!P10 -> 0 | AH10: =입력용!Q10 -> 0 | AI10: =입력용!S10 -> 0 | AJ10: =입력용!N10 -> 0 | AK10: =입력용!R10 -> 0
A11: =입력용!C11 -> 0 | B11: =G:G -> 0 | G11: =입력용!M11 -> 0 | H11: =입력용!O11 -> 0 | J11: =입력용!C11 -> 0 | L11: =입력용!F11 -> 0 | M11: =입력용!G11 -> 0 | N11: =입력용!H11 -> 0 | AG11: =입력용!P11 -> 0 | AH11: =입력용!Q11 -> 0 | AI11: =입력용!S11 -> 0 | AJ11: =입력용!N11 -> 0 | AK11: =입력용!R11 -> 0
A12: =입력용!C12 -> 0 | B12: =G:G -> 0 | G12: =입력용!M12 -> 0 | H12: =입력용!O12 -> 0 | J12: =입력용!C12 -> 0 | L12: =입력용!F12 -> 0 | M12: =입력용!G12 -> 0 | N12: =입력용!H12 -> 0 | AG12: =입력용!P12 -> 0 | AH12: =입력용!Q12 -> 0 | AI12: =입력용!S12 -> 0 | AJ12: =입력용!N12 -> 0 | AK12: =입력용!R12 -> 0
A13: =입력용!C13 -> 0 | B13: =G:G -> 0 | G13: =입력용!M13 -> 0 | H13: =입력용!O13 -> 0 | J13: =입력용!C13 -> 0 | L13: =입력용!F13 -> 0 | M13: =입력용!G13 -> 0 | N13: =입력용!H13 -> 0 | AG13: =입력용!P13 -> 0 | AH13: =입력용!Q13 -> 0 | AI13: =입력용!S13 -> 0 | AJ13: =입력용!N13 -> 0 | AK13: =입력용!R13 -> 0
... A49: =입력용!C49 -> 0 | B49: =G:G -> 0 | G49: =입력용!M49 -> 0 | H49: =입력용!O49 -> 0 | J49: =입력용!C49 -> 0 | L49: =입력용!F49 -> 0 | M49: =입력용!G49 -> 0 | N49: =입력용!H49 -> 0 | AG49: =입력용!P49 -> 0 | AH49: =입력용!Q49 -> 0 | AI49: =입력용!S49 -> 0 | AJ49: =입력용!N49 -> 0 | AK49: =입력용!R49 -> 0
