Workbook

Sheet 입력용
A1: 쇼핑몰(계정) | B1: 쇼핑몰 주문번호 | C1: 주문수집일 | D1: 온라인 상품명 | E1: 옵션 | F1: 주문수량 | G1: 추가구매옵션 | H1: 수령자명 | I1: 배송메세지 | J1: 우편번호 | K1: 주소 | L1: 수령자 전화번호 | M1: 수령자 휴대폰번호 | N1: 매입처
A2: 29CM/conteenew | B2: ORD20220814-5623267 23756536 | C2: 2022-08-16 09:23:07 | D2: 우리바다 이호석탄 아트 대형 비치타올 수건 바스타올 | F2: 1 | H2: 이수민 | I2: 문 앞에 놔주세요 | J2: 27481 | K2: 충청북도 충주시 호암중앙1로 47 105동 1202호 | M2: 010-7257-6149 | N2: 없음
A3: 텐바이텐/conteenew | B3: 22081433809 4236935 | C3: 2022-08-16 09:23:17 | D3: 달팽이집 SUSU 패브릭 벨보아 쿠션커버 | E3: 벨보아쿠션커버,쿠션커버만 | F3: 1 | H3: 오은희 | J3: 24747 | K3: 강원도 고성군 죽왕면 동해대로 5896 동광약국 | L3: 0103-3498-0015 | M3: 010-3498-0015 | N3: 없음
A4: 29CM/conteenew | B4: ORD20220815-5872236 23783870 | C4: 2022-08-16 09:23:07 | D4: Newyork Travel 뉴욕 감성 인테리어 포스터 & 엽서 18장 패키지북 | F4: 1 | H4: 박효원 | I4: 부재시 문앞에 놓아주세요. | J4: 06942 | K4: 서울특별시 동작구 여의대방로44길 47 207동 401호 | M4: 010-6692-9989 | N4: 없음
A5: 텐바이텐/conteenew | B5: 22081537966 4274265 | C5: 2022-08-16 09:23:17 | D5: 에어팟 에어팟프로 케이스 수평선이 되어 째찌 | E5: 에어팟 케이스 | F5: 1 | H5: 강민주 | I5: 문 앞에 놓아주세요 | J5: 48310 | K5: 부산광역시 수영구 광안해변로15번길 10, 나동 501호 (남천동,남천반도보라) | L5: 0503-7207-1435 | M5: 0503-7207-1435 | N5: 없음
A6: 텐바이텐/conteenew | B6: 22081537225 4154652 | C6: 2022-08-16 09:23:17 | D6: [모음전]2022년 그림같이 시작하기 벽걸이 달력 캘린더 Best10 | E6: 2.모네_타공형a3 | F6: 1 | H6: 염진 | I6: 문 앞 | J6: 05629 | K6: 서울특별시 송파구 백제고분로50길 30-21 402호 ( 방이동 ) | L6: 0503-8515-3165 | M6: 0503-8515-3165 | N6: 없음
A7: 텐바이텐/conteenew | B7: 22081537225 4154652 | C7: 2022-08-16 09:23:17 | D7: [모음전]2022년 그림같이 시작하기 벽걸이 달력 캘린더 Best10 | E7: 1.고흐_타공형a3 | F7: 1 | H7: 염진 | I7: 문 앞 | J7: 05629 | K7: 서울특별시 송파구 백제고분로50길 30-21 402호 ( 방이동 ) | L7: 0503-8515-3165 | M7: 0503-8515-3165 | N7: 없음
A8: 카카오 선물하기/conteenew01@gmail.com | B8: 1777729930 | C8: 2022-08-16 09:23:19 | D8: 에곤 실레 클래식 명화 인테리어 무소음 벽시계 집들이 신혼부부 선물 | E8: 작품선택: Seated Woman with Legs .. | F8: 1 | H8: 문주현 | J8: 06049 | K8: 서울 강남구 논현동 73-6 303호 | M8: 010-9902-2109 | N8: 없음
A9: 카카오 선물하기/conteenew01@gmail.com | B9: 1778816783 | C9: 2022-08-16 09:23:19 | D9: 미니 포스터 선물 여름 바다 아트 엽서북 (18개 작품 수록) | F9: 1 | H9: 전수빈 | J9: 17077 | K9: 경기 용인시 기흥구 중부대로788번길 20 (상하동, 수원동마을 쌍용아파트) 306동 1605호 | M9: 010-4244-3948 | N9: 없음
A10: 텐바이텐/conteenew | B10: 22081538481 4546263 | C10: 2022-08-16 09:23:17 | D10: 테리극세사 파도 옥규 아트 대형 비치타올 수건 바스타올 | F10: 1 | H10: 김선미 | I10: 부재 시 문 앞에 놓아주세요. | J10: 31184 | K10: 충청남도 천안시 동남구 일봉로 20 (성지새말아파트) 성지새말206동 1402 | L10: 010-4866-1402 | M10: 010-4866-1402 | N10: 없음
A11: 텐바이텐/conteenew | B11: 22081538481 4546249 | C11: 2022-08-16 09:23:17 | D11: 테리극세사 고래의 비 째찌 아트 대형 비치타올 수건 바스타올 | F11: 1 | H11: 김선미 | I11: 부재 시 문 앞에 놓아주세요. | J11: 31184 | K11: 충청남도 천안시 동남구 일봉로 20 (성지새말아파트) 성지새말206동 1402 | L11: 010-4866-1402 | M11: 010-4866-1402 | N11: 없음
A12: 텐바이텐/conteenew | B12: 22081326820 4546251 | C12: 2022-08-16 09:23:17 | D12: 테리극세사 가을바다 정현 아트 대형 비치타올 수건 바스타올 | F12: 1 | H12: 김민정 | J12: 03324 | K12: 서울특별시 은평구 갈현로25길 3-1 (행복한집(6차)) 502호 | L12: 010-6293-5063 | M12: 010-6293-5063 | N12: 없음
A13: 29CM/conteenew | B13: ORD20220814-5588398 23752820 | C13: 2022-08-16 09:23:07 | D13: 꽈리열매가 있는 자화상, 에곤실레 캔버스 액자 | E13: [사이즈]800x640mm(프레임) | F13: 1 | H13: 김대로 | J13: 03989 | K13: 서울특별시 마포구 연남로 30 코오롱하늘채아파트 106동 1302호 | M13: 010-3144-5886 | N13: 없음
A14: 카카오 선물하기/conteenew01@gmail.com | B14: 1776089291 | C14: 2022-08-16 09:23:19 | D14: 네번째향기 스물한송이튤립/A2사이즈 | F14: 1 | H14: 김유진 | J14: 42286 | K14: 대구 수성구 고산로 30 (신매동, 두성타운) 239동 103호 | M14: 010-5300-4877 | N14: 없음
A15: 텐바이텐/conteenew | B15: 22081222416 4176977 | C15: 2022-08-16 09:23:17 | D15: 꽃피는 아몬드 나무 빈센트 반 고흐 (무소음 벽시계) | F15: 1 | H15: 최유진 | J15: 03182 | K15: 서울특별시 종로구 신문로1가 42 새문안교회 8층 802호 | L15: 010-9939-3763 | M15: 010-9939-3763 | N15: 없음
A16: 텐바이텐/conteenew | B16: 22081434887 4546263 | C16: 2022-08-16 09:23:17 | D16: 테리극세사 파도 옥규 아트 대형 비치타올 수건 바스타올 | F16: 1 | H16: 이준서 | J16: 13615 | K16: 경기도 성남시 분당구 성남대로171번길 8 (금곡동, 청솔마을) 104-103 | L16: -- | M16: 010-5262-0898 | N16: 없음
A17: 카카오 선물하기/conteenew01@gmail.com | B17: 1777172091 | C17: 2022-08-16 09:23:19 | D17: 미니 포스터 photo21c 2 세트 (18개 작품)/선물 풍경 감성 아트 엽서북 | F17: 1 | H17: 최건 | J17: 10087 | K17: 경기 김포시 김포한강2로 113 (장기동, 한강신도시 초당마을중흥에스-클래스리버티) 313동 1603호 | M17: 010-8731-2390 | N17: 없음
A18: 텐바이텐/conteenew | B18: 22081432115 4308325 | C18: 2022-08-16 09:23:17 | D18: 호랑이해 감성아트 엽서북, Grace J (18종) | F18: 1 | H18: 김초롱 | I18: 공동현관문 9607 | J18: 16512 | K18: 경기도 수원시 영통구 하동 957-7 201호 | L18: 010-2417-6203 | M18: 010-2417-6203 | N18: 없음
A19: 텐바이텐/conteenew | B19: 22081643951 4652892 | C19: 2022-08-16 09:23:17 | D19: 라일락 향기2 김민영작가 데스크매트 아트 마우스패드 | F19: 1 | H19: 송윤정 | J19: 38650 | K19: 경상북도 경산시 경청로222길 8, 102동 104호 (백천동,경산백천신나리아파트) | L19: 010-2722-2147 | M19: 010-2722-2147 | N19: 없음
A20: 29CM/conteenew | B20: ORD20220815-5827291 23778832 | C20: 2022-08-16 09:23:07 | D20: 해수워터피아 버스정류장 정빛나 논슬립 와이드 데스크매트 장패드 책상덮개 | F20: 1 | H20: 계승 | I20: 부재시 문앞에 놓아주세요. | J20: 06751 | K20: 서울특별시 서초구 바우뫼로 91 102동203호 | M20: 010-3127-2007 | N20: 없음
A21: 텐바이텐/conteenew | B21: 22081328109 4398381 | C21: 2022-08-16 09:23:17 | D21: 패브릭 포스터 미니커튼 가리개 숨바꼭질 GraceJ | E21: A2(594*420mm) | F21: 1 | H21: 함선옥 | I21: 데크 위에 놓.아 주세요 | J21: 32411 | K21: 충청남도 예산군 봉산면 효교3길 120-5 효교리62-30 | L21: 031-337-5418 | M21: 010-3548-0658 | N21: 없음
A22: 텐바이텐/conteenew | B22: 22081328109 4398383 | C22: 2022-08-16 09:23:18 | D22: 패브릭 포스터 미니커튼 가리개 나무우산 GraceJ | E22: A1(841*594mm) | F22: 1 | H22: 함선옥 | I22: 데크 위에 놓.아 주세요 | J22: 32411 | K22: 충청남도 예산군 봉산면 효교3길 120-5 효교리62-30 | L22: 031-337-5418 | M22: 010-3548-0658 | N22: 없음
A23: 텐바이텐/conteenew | B23: 22081222587 4247984 | C23: 2022-08-16 09:23:17 | D23: 환상 감성아트 엽서북, 현현3(18종) | F23: 1 | H23: 디자인문화 | J23: 15535 | K23: 경기도 안산시 상록구 각골로 87 (안산디자인문화고등학교) 본관1층 행정실 | L23: 010-3036-2799 | M23: 010-3036-2799 | N23: 없음
A24: 텐바이텐/conteenew | B24: 22081222587 4219493 | C24: 2022-08-16 09:23:17 | D24: 여행 감성 아트 엽서북, 리안 (18개 작품 수록) | F24: 1 | H24: 디자인문화 | J24: 15535 | K24: 경기도 안산시 상록구 각골로 87 (안산디자인문화고등학교) 본관1층 행정실 | L24: 010-3036-2799 | M24: 010-3036-2799 | N24: 없음
A25: 텐바이텐/conteenew | B25: 22081222587 4247981 | C25: 2022-08-16 09:23:17 | D25: 소녀 감성아트 엽서북, 째찌2(18종) | F25: 1 | H25: 디자인문화 | J25: 15535 | K25: 경기도 안산시 상록구 각골로 87 (안산디자인문화고등학교) 본관1층 행정실 | L25: 010-3036-2799 | M25: 010-3036-2799 | N25: 없음
A26: 텐바이텐/conteenew | B26: 22081222587 4565979 | C26: 2022-08-16 09:23:17 | D26: 캐릭터 풍경 아트 엽서북, 솜SOM (18종) | F26: 2 | H26: 디자인문화 | J26: 15535 | K26: 경기도 안산시 상록구 각골로 87 (안산디자인문화고등학교) 본관1층 행정실 | L26: 010-3036-2799 | M26: 010-3036-2799 | N26: 없음
A27: 텐바이텐/conteenew | B27: 22081222587 4253436 | C27: 2022-08-16 09:23:17 | D27: 강아지 일상 감성아트 엽서북, 낭소(18종) | F27: 1 | H27: 디자인문화 | J27: 15535 | K27: 경기도 안산시 상록구 각골로 87 (안산디자인문화고등학교) 본관1층 행정실 | L27: 010-3036-2799 | M27: 010-3036-2799 | N27: 없음
A28: 카카오 선물하기/conteenew01@gmail.com | B28: 1775036512 | C28: 2022-08-16 09:23:19 | D28: 미니 포스터 photo21c 2 세트 (18개 작품)/선물 풍경 감성 아트 엽서북 | F28: 1 | H28: 이지현 | J28: 28664 | K28: 충북 청주시 서원구 1순환로 713-4 갤럭시빌 102호 | M28: 010-3178-1899 | N28: 없음
A29: 텐바이텐/conteenew | B29: 22081537336 4176974 | C29: 2022-08-16 09:23:17 | D29: 해바라기 sunflower, 구스타프 클림트 (무소음벽시계) | F29: 1 | H29: 이혜주 | J29: 16988 | K29: 경기도 용인시 기흥구 언동로217번길 11 (중동,신동백 아이파크) 104동1402호 (지번:중동 어정마을동백아이파크아파트) | M29: 010-2438-7336 | N29: 없음

Sheet 복사용
A1: 상품주문번호 | B1: 주문번호 | C1: 배송방법 | D1: 택배사 | E1: 송장번호 | F1: 발송일 | G1: 구매자명 | H1: 수취인명 | I1: 주문상태 | J1: 결제일 | K1: 상품번호 | L1: 상품명 | M1: 옵션정보 | N1: 수량 | O1: 옵션가격 | P1: 상품가격 | Q1: 상품별 할인액 | R1: 판매자 부담 할인액 | S1: 상품별 총 주문금액 | T1: 발주확인일 | U1: 발송기한 | V1: 발송처리일 | W1: 송장출력일 | X1: 배송비 형태 | Y1: 배송비 묶음번호 | Z1: 배송비 유형 | AA1: 배송비 합계 | AB1: 제주/도서 추가배송비 | AC1: 배송비 할인액 | AD1: 판매자 상품코드 | AE1: 판매자 내부코드1 | AF1: 판매자 내부코드2 | AG1: 수취인연락처1 | AH1: 수취인연락처2 | AI1: 배송지 | AJ1: 구매자연락처 | AK1: 우편번호 | AL1: 배송메세지 | AM1: 출고지 | AN1: 결제수단 | AO1: 수수료 과금구분 | AP1: 수수료결제방식 | AQ1: 네이버페이 주문관리 수수료 | AR1: 매출연동 수수료 | AS1: 매출연동 수수료 구분 | AT1: 정산예정금액 | AU1: 개인통관고유부호 | AV1: 주문일시 | AW1: 마지막 유입경로
A2: =입력용!B2 -> ORD20220814-5623267 23756536 | H2: =입력용!H2 -> 이수민 | J2: =입력용!C2 -> 2022-08-16 09:23:07 | L2: =입력용!D2 -> 우리바다 이호석탄 아트 대형 비치타올 수건 바스타올 | M2: =입력용!E2 | N2: =입력용!F2 -> 1 | AE2: =입력용!A2 -> 29CM/conteenew | AG2: =입력용!M2 -> 010-7257-6149 | AH2: =입력용!L2 | AI2: =입력용!K2 -> 충청북도 충주시 호암중앙1로 47 105동 1202호 | AK2: =입력용!J2 -> 27481 | AL2: =입력용!I2 -> 문 앞에 놔주세요
A3: =입력용!B3 -> 22081433809 4236935 | H3: =입력용!H3 -> 오은희 | J3: =입력용!C3 -> 2022-08-16 09:23:17 | L3: =입력용!D3 -> 달팽이집 SUSU 패브릭 벨보아 쿠션커버 | M3: =입력용!E3 -> 벨보아쿠션커버,쿠션커버만 | N3: =입력용!F3 -> 1 | AE3: =입력용!A3 -> 텐바이텐/conteenew | AG3: =입력용!M3 -> 010-3498-0015 | AH3: =입력용!L3 -> 0103-3498-0015 | AI3: =입력용!K3 -> 강원도 고성군 죽왕면 동해대로 5896 동광약국 | AK3: =입력용!J3 -> 24747 | AL3: =입력용!I3
A4: =입력용!B4 -> ORD20220815-5872236 23783870 | H4: =입력용!H4 -> 박효원 | J4: =입력용!C4 -> 2022-08-16 09:23:07 | L4: =입력용!D4 -> Newyork Travel 뉴욕 감성 인테리어 포스터 & 엽서 18장 패키지북 | M4: =입력용!E4 | N4: =입력용!F4 -> 1 | AE4: =입력용!A4 -> 29CM/conteenew | AG4: =입력용!M4 -> 010-6692-9989 | AH4: =입력용!L4 | AI4: =입력용!K4 -> 서울특별시 동작구 여의대방로44길 47 207동 401호 | AK4: =입력용!J4 -> 06942 | AL4: =입력용!I4 -> 부재시 문앞에 놓아주세요.
A5: =입력용!B5 -> 22081537966 4274265 | H5: =입력용!H5 -> 강민주 | J5: =입력용!C5 -> 2022-08-16 09:23:17 | L5: =입력용!D5 -> 에어팟 에어팟프로 케이스 수평선이 되어 째찌 | M5: =입력용!E5 -> 에어팟 케이스 | N5: =입력용!F5 -> 1 | AE5: =입력용!A5 -> 텐바이텐/conteenew | AG5: =입력용!M5 -> 0503-7207-1435 | AH5: =입력용!L5 -> 0503-7207-1435 | AI5: =입력용!K5 -> 부산광역시 수영구 광안해변로15번길 10, 나동 501호 (남천동,남천반도보라) | AK5: =입력용!J5 -> 48310 | AL5: =입력용!I5 -> 문 앞에 놓아주세요
A6: =입력용!B6 -> 22081537225 4154652 | H6: =입력용!H6 -> 염진 | J6: =입력용!C6 -> 2022-08-16 09:23:17 | L6: =입력용!D6 -> [모음전]2022년 그림같이 시작하기 벽걸이 달력 캘린더 Best10 | M6: =입력용!E6 -> 2.모네_타공형a3 | N6: =입력용!F6 -> 1 | AE6: =입력용!A6 -> 텐바이텐/conteenew | AG6: =입력용!M6 -> 0503-8515-3165 | AH6: =입력용!L6 -> 0503-8515-3165 | AI6: =입력용!K6 -> 서울특별시 송파구 백제고분로50길 30-21 402호 ( 방이동 ) | AK6: =입력용!J6 -> 05629 | AL6: =입력용!I6 -> 문 앞
A7: =입력용!B7 -> 22081537225 4154652 | H7: =입력용!H7 -> 염진 | J7: =입력용!C7 -> 2022-08-16 09:23:17 | L7: =입력용!D7 -> [모음전]2022년 그림같이 시작하기 벽걸이 달력 캘린더 Best10 | M7: =입력용!E7 -> 1.고흐_타공형a3 | N7: =입력용!F7 -> 1 | AE7: =입력용!A7 -> 텐바이텐/conteenew | AG7: =입력용!M7 -> 0503-8515-3165 | AH7: =입력용!L7 -> 0503-8515-3165 | AI7: =입력용!K7 -> 서울특별시 송파구 백제고분로50길 30-21 402호 ( 방이동 ) | AK7: =입력용!J7 -> 05629 | AL7: =입력용!I7 -> 문 앞
A8: =입력용!B8 -> 1777729930 | H8: =입력용!H8 -> 문주현 | J8: =입력용!C8 -> 2022-08-16 09:23:19 | L8: =입력용!D8 -> 에곤 실레 클래식 명화 인테리어 무소음 벽시계 집들이 신혼부부 선물 | M8: =입력용!E8 -> 작품선택: Seated Woman with Legs .. | N8: =입력용!F8 -> 1 | AE8: =입력용!A8 -> 카카오 선물하기/conteenew01@gmail.com | AG8: =입력용!M8 -> 010-9902-2109 | AH8: =입력용!L8 | AI8: =입력용!K8 -> 서울 강남구 논현동 73-6 303호 | AK8: =입력용!J8 -> 06049 | AL8: =입력용!I8
A9: =입력용!B9 -> 1778816783 | H9: =입력용!H9 -> 전수빈 | J9: =입력용!C9 -> 2022-08-16 09:23:19 | L9: =입력용!D9 -> 미니 포스터 선물 여름 바다 아트 엽서북 (18개 작품 수록) | M9: =입력용!E9 | N9: =입력용!F9 -> 1 | AE9: =입력용!A9 -> 카카오 선물하기/conteenew01@gmail.com | AG9: =입력용!M9 -> 010-4244-3948 | AH9: =입력용!L9 | AI9: =입력용!K9 -> 경기 용인시 기흥구 중부대로788번길 20 (상하동, 수원동마을 쌍용아파트) 306동 1605호 | AK9: =입력용!J9 -> 17077 | AL9: =입력용!I9
A10: =입력용!B10 -> 22081538481 4546263 | H10: =입력용!H10 -> 김선미 | J10: =입력용!C10 -> 2022-08-16 09:23:17 | L10: =입력용!D10 -> 테리극세사 파도 옥규 아트 대형 비치타올 수건 바스타올 | M10: =입력용!E10 | N10: =입력용!F10 -> 1 | AE10: =입력용!A10 -> 텐바이텐/conteenew | AG10: =입력용!M10 -> 010-4866-1402 | AH10: =입력용!L10 -> 010-4866-1402 | AI10: =입력용!K10 -> 충청남도 천안시 동남구 일봉로 20 (성지새말아파트) 성지새말206동 1402 | AK10: =입력용!J10 -> 31184 | AL10: =입력용!I10 -> 부재 시 문 앞에 놓아주세요.
A11: =입력용!B11 -> 22081538481 4546249 | H11: =입력용!H11 -> 김선미 | J11: =입력용!C11 -> 2022-08-16 09:23:17 | L11: =입력용!D11 -> 테리극세사 고래의 비 째찌 아트 대형 비치타올 수건 바스타올 | M11: =입력용!E11 | N11: =입력용!F11 -> 1 | AE11: =입력용!A11 -> 텐바이텐/conteenew | AG11: =입력용!M11 -> 010-4866-1402 | AH11: =입력용!L11 -> 010-4866-1402 | AI11: =입력용!K11 -> 충청남도 천안시 동남구 일봉로 20 (성지새말아파트) 성지새말206동 1402 | AK11: =입력용!J11 -> 31184 | AL11: =입력용!I11 -> 부재 시 문 앞에 놓아주세요.
A12: =입력용!B12 -> 22081326820 4546251 | H12: =입력용!H12 -> 김민정 | J12: =입력용!C12 -> 2022-08-16 09:23:17 | L12: =입력용!D12 -> 테리극세사 가을바다 정현 아트 대형 비치타올 수건 바스타올 | M12: =입력용!E12 | N12: =입력용!F12 -> 1 | AE12: =입력용!A12 -> 텐바이텐/conteenew | AG12: =입력용!M12 -> 010-6293-5063 | AH12: =입력용!L12 -> 010-6293-5063 | AI12: =입력용!K12 -> 서울특별시 은평구 갈현로25길 3-1 (행복한집(6차)) 502호 | AK12: =입력용!J12 -> 03324 | AL12: =입력용!I12
A13: =입력용!B13 -> ORD20220814-5588398 23752820 | H13: =입력용!H13 -> 김대로 | J13: =입력용!C13 -> 2022-08-16 09:23:07 | L13: =입력용!D13 -> 꽈리열매가 있는 자화상, 에곤실레 캔버스 액자 | M13: =입력용!E13 -> [사이즈]800x640mm(프레임) | N13: =입력용!F13 -> 1 | AE13: =입력용!A13 -> 29CM/conteenew | AG13: =입력용!M13 -> 010-3144-5886 | AH13: =입력용!L13 | AI13: =입력용!K13 -> 서울특별시 마포구 연남로 30 코오롱하늘채아파트 106동 1302호 | AK13: =입력용!J13 -> 03989 | AL13: =입력용!I13
... A109: =입력용!B109 -> 0 | H109: =입력용!H109 -> 0 | J109: =입력용!C109 -> 0 | L109: =입력용!D109 -> 0 | M109: =입력용!E109 -> 0 | N109: =입력용!F109 -> 0 | AE109: =입력용!A109 -> 0 | AG109: =입력용!M109 -> 0 | AH109: =입력용!L109 -> 0 | AI109: =입력용!K109 -> 0 | AK109: =입력용!J109 -> 0 | AL109: =입력용!I109 -> 0
